BEGIN:VCALENDAR
VERSION:2.0
PRODID:-//wp-events-plugin.com//7.2.1//EN
TZID:Europe/Stockholm
X-WR-TIMEZONE:Europe/Stockholm
BEGIN:VEVENT
UID:131@billingensgk.se
DTSTART:20250731T000000Z
DTEND:20250803T234500Z
DTSTAMP:20250723T101951Z
URL:https://billingensgk.se/events/begransat-antal-stallplatser-lediga-31-
 7-3-8/
SUMMARY:Begränsat antal ställplatser lediga 31/7-3/8
DESCRIPTION:﻿Begränsat antal ställplatser lediga 31/7-3/8
ATTACH;FMTTYPE=image/jpeg:https://billingensgk.se/wp-content/uploads/2025/
 02/IMG_13221-scaled.jpg
END:VEVENT
END:VCALENDAR