BEGIN:VCALENDAR
VERSION:2.0
PRODID:-//wp-events-plugin.com//7.2.1//EN
TZID:Europe/Stockholm
X-WR-TIMEZONE:Europe/Stockholm
BEGIN:VEVENT
UID:120@billingensgk.se
DTSTART:20250320T113000Z
DTEND:20250320T123000Z
DTSTAMP:20250320T053216Z
URL:https://billingensgk.se/events/studion-bokad-11-30-12-30/
SUMMARY:Studion bokad 11.30-12.30
DESCRIPTION:Studion bokad 11.30-12.30
END:VEVENT
END:VCALENDAR